BEGIN:VCALENDAR
VERSION:2.0
PRODID:-//hacksw/handcal//NONSGML v1.0//EN
BEGIN:VEVENT
SUMMARY:Championnats de France de 10km Troyes
UID:543a1b0d-29b4-4372-a705-3095851315a6
DTSTART:20260509T220000Z
DTEND:20260510T220000Z
LOCATION:Localisation   
CATEGORIES:Sportif
STATUS:
DESCRIPTION:<p><a
 href="https://www.athle.fr/contenu/championnats-de-france-du-10-km-2026-troyes/7114">https://www.athle.fr/contenu/championnats-de-france-du-10-km-2026-troyes/7114</a></p>
URL;VALUE=URI:https://www.cact50.com/evenements/2026/05/10/championnats-de-france-de-10km-troyes-2444489
END:VEVENT
END:VCALENDAR
